BEGIN:VCALENDAR
VERSION:2.0
PRODID:-//Fourth Wall Entertainment Troupe - ECPv6.11.2.1//NONSGML v1.0//EN
CALSCALE:GREGORIAN
METHOD:PUBLISH
X-WR-CALNAME:Fourth Wall Entertainment Troupe
X-ORIGINAL-URL:https://4thwalltroupe.com
X-WR-CALDESC:Events for Fourth Wall Entertainment Troupe
REFRESH-INTERVAL;VALUE=DURATION:PT1H
X-Robots-Tag:noindex
X-PUBLISHED-TTL:PT1H
BEGIN:VTIMEZONE
TZID:UTC
BEGIN:STANDARD
TZOFFSETFROM:+0000
TZOFFSETTO:+0000
TZNAME:UTC
DTSTART:20190101T000000
END:STANDARD
END:VTIMEZONE
BEGIN:VEVENT
DTSTART;TZID=UTC:20250711T190000
DTEND;TZID=UTC:20250720T210000
DTSTAMP:20260423T073552
CREATED:20250601T162256Z
LAST-MODIFIED:20250601T162405Z
UID:1696-1752260400-1753045200@4thwalltroupe.com
SUMMARY:Off The Wall Youth Theatre Presents Robin Hood: The Musical
DESCRIPTION:🎭 The Kids of Off the Wall Youth Theatre Troupe Take the Stage! 🌳🎶 \nThis summer\, get ready for an epic adventure in Metropolitan Park as our talented young performers bring you Robin Hood: The Musical! 🏹✨ \nJoin Robin Hood\, Little John\, Mother Meg\, Beth\, Will Scarlet\, and all the Merry Men as they fight against injustice\, outwit the greedy Sheriff of Nottingham\, and face off with the sinister Lady Merle! With toe-tapping songs\, thrilling moments\, and a cast full of heart\, this musical is one you won’t want to miss. \nWhether you’re a fan of swashbuckling adventures or just love great musical theatre\, Robin Hood: The Musical will leave you laughing\, singing\, and rooting for the good guys! 🌳🎤 \nBring your family\, friends\, and fairy-tale lovers of all ages to witness the magic of our young performers taking on this classic tale with a fresh\, musical twist. \nGrab your tickets now—and let the adventure begin! \n#RobinHoodMusical #OffTheWallYouthTroupe #SummerTheatre #MerryMen #MusicalTheatreForAll
URL:https://4thwalltroupe.com/event/off-the-wall-youth-theatre-presents-robin-hood-the-musical/
LOCATION:The Metropolitan\, Metropolitan\, 59 Main Street\, San Andreas\, CA\, 95249\, United States
CATEGORIES:Youth Theatre
ATTACH;FMTTYPE=image/jpeg:https://4thwalltroupe.com/wp-content/uploads/2025/05/496307837_24370333835902611_3463381130754015908_n.jpg
END:VEVENT
BEGIN:VEVENT
DTSTART;TZID=UTC:20240809T190000
DTEND;TZID=UTC:20240818T140000
DTSTAMP:20260423T073552
CREATED:20240605T200403Z
LAST-MODIFIED:20240605T200403Z
UID:1459-1723230000-1723989600@4thwalltroupe.com
SUMMARY:Beauty and the Beast
DESCRIPTION:Off the Wall Youth Theatre Troupe presents Beauty and the Beast directed by Ron and Lauren Ramirez.
URL:https://4thwalltroupe.com/event/beauty-and-the-beast/
LOCATION:The Metropolitan\, Metropolitan\, 59 Main Street\, San Andreas\, CA\, 95249\, United States
CATEGORIES:Youth Theatre
ATTACH;FMTTYPE=image/jpeg:https://4thwalltroupe.com/wp-content/uploads/2024/06/BBposter-scaled.jpg
END:VEVENT
BEGIN:VEVENT
DTSTART;TZID=UTC:20231208T190000
DTEND;TZID=UTC:20231217T140000
DTSTAMP:20260423T073552
CREATED:20220924T171224Z
LAST-MODIFIED:20230907T221028Z
UID:1298-1702062000-1702821600@4thwalltroupe.com
SUMMARY:Babes in Toyland
DESCRIPTION:Mistress Mary Quite Contrary has her heart set on marrying the heroic Alan. Alan’s uncle\, the villainous Barnaby\, is set on marrying her himself\, threatening foreclosure on her mother if she refuses.  Mary escapes to Toyland through the dangerous Spider Forest. Barnaby pursues Mary to Toyland.
URL:https://4thwalltroupe.com/event/babes-in-toyland/
LOCATION:The Metropolitan\, Metropolitan\, 59 Main Street\, San Andreas\, CA\, 95249\, United States
CATEGORIES:Youth Theatre
ATTACH;FMTTYPE=image/jpeg:https://4thwalltroupe.com/wp-content/uploads/2022/09/TOYLANDposter.jpg
END:VEVENT
BEGIN:VEVENT
DTSTART;TZID=UTC:20230505T190000
DTEND;TZID=UTC:20230513T190000
DTSTAMP:20260423T073552
CREATED:20220924T164326Z
LAST-MODIFIED:20230331T191122Z
UID:1277-1683313200-1684004400@4thwalltroupe.com
SUMMARY:Snow White and the Seven Dwarfs
DESCRIPTION:All our old friends\, plus a few new ones\, are here in this classic\, marvelous musical adaptation.  We’ll meet the captivating Princess Snow White\, the prince\, the evil queen\, and\, of course\, the seven mischievous dwarfs — Sarge\, Gabby\, Gloomy Gus\, Ticklish\, Spritely\, Snore\, and Slowpoke.  There’s also a hilarious palace cat and an enchanted vixen — a fox\, you could say!  Following the traditional storyline\, the fairy tale is brought to life with an eclectic score of toe-tapping tunes.
URL:https://4thwalltroupe.com/event/snow-white-and-the-seven-dwarfs/
LOCATION:The Metropolitan\, Metropolitan\, 59 Main Street\, San Andreas\, CA\, 95249\, United States
CATEGORIES:Youth Theatre
ATTACH;FMTTYPE=image/jpeg:https://4thwalltroupe.com/wp-content/uploads/2022/09/sw11X17.jpg
END:VEVENT
BEGIN:VEVENT
DTSTART;TZID=UTC:20220715T190000
DTEND;TZID=UTC:20220717T190000
DTSTAMP:20260423T073552
CREATED:20201006T192804Z
LAST-MODIFIED:20220607T204556Z
UID:833-1657911600-1658084400@4thwalltroupe.com
SUMMARY:Sleeping Beauty
DESCRIPTION:Song and dance fill the stage as Aurora grows among the Good Fairies and lovable Forest Animals where she meets the handsome Prince of her dreams. \nFridays and Saturdays at 7:00 pm. \nSunday matinees at 2:00 pm. \nAdmission: \nAdults: $10 \nChild/Senior: $5
URL:https://4thwalltroupe.com/event/sleeping-beauty/
LOCATION:The Metropolitan\, Metropolitan\, 59 Main Street\, San Andreas\, CA\, 95249\, United States
CATEGORIES:Youth Theatre
ATTACH;FMTTYPE=image/jpeg:https://4thwalltroupe.com/wp-content/uploads/2020/10/SB-1.jpg
END:VEVENT
BEGIN:VEVENT
DTSTART;TZID=UTC:20220708T190000
DTEND;TZID=UTC:20220710T140000
DTSTAMP:20260423T073552
CREATED:20201006T193000Z
LAST-MODIFIED:20220607T204641Z
UID:835-1657306800-1657461600@4thwalltroupe.com
SUMMARY:Sleeping Beauty
DESCRIPTION:Song and dance fill the stage as Aurora grows among the Good Fairies and lovable Forest Animals where she meets the handsome Prince of her dreams. \nFridays and Saturdays at 7:00 pm. \nSunday matinees at 2:00 pm. \nAdmission: \nAdults: $10 \nChild/Senior: $5
URL:https://4thwalltroupe.com/event/sleeping-beauty-2/
LOCATION:The Metropolitan\, Metropolitan\, 59 Main Street\, San Andreas\, CA\, 95249\, United States
CATEGORIES:Youth Theatre
ATTACH;FMTTYPE=image/jpeg:https://4thwalltroupe.com/wp-content/uploads/2020/10/SB-1.jpg
END:VEVENT
BEGIN:VEVENT
DTSTART;TZID=UTC:20220422T190000
DTEND;TZID=UTC:20220424T140000
DTSTAMP:20260423T073552
CREATED:20200103T173844Z
LAST-MODIFIED:20220315T182619Z
UID:705-1650654000-1650808800@4thwalltroupe.com
SUMMARY:The Wonderful Wizard of Oz
DESCRIPTION:A clever\, entertaining and fast paced dramatization based upon the timeless and exciting L. Frank Baum classic adventure story of young Dorothy who finds herself lost in the strange and magical Land of Oz.  \nFridays and Saturday at 7:00 pm. \nSaturday and Sunday matinees at 2:00 pm.
URL:https://4thwalltroupe.com/event/the-wonderful-wizard-of-oz-2/
LOCATION:The Metropolitan\, Metropolitan\, 59 Main Street\, San Andreas\, CA\, 95249\, United States
CATEGORIES:Youth Theatre
ATTACH;FMTTYPE=image/jpeg:https://4thwalltroupe.com/wp-content/uploads/2020/01/2022.jpg
END:VEVENT
BEGIN:VEVENT
DTSTART;TZID=UTC:20190929T140000
DTEND;TZID=UTC:20190929T160000
DTSTAMP:20260423T073552
CREATED:20190517T001447Z
LAST-MODIFIED:20190517T001447Z
UID:556-1569765600-1569772800@4thwalltroupe.com
SUMMARY:Peter Pan!
DESCRIPTION:Off The Wall Youth Theatre presents Peter Pan!
URL:https://4thwalltroupe.com/event/peter-pan-6/
LOCATION:The Metropolitan\, Metropolitan\, 59 Main Street\, San Andreas\, CA\, 95249\, United States
CATEGORIES:Youth Theatre
ATTACH;FMTTYPE=image/jpeg:https://4thwalltroupe.com/wp-content/uploads/2018/12/PAN.jpg
END:VEVENT
BEGIN:VEVENT
DTSTART;TZID=UTC:20190928T190000
DTEND;TZID=UTC:20190928T210000
DTSTAMP:20260423T073552
CREATED:20190517T001342Z
LAST-MODIFIED:20190517T001342Z
UID:554-1569697200-1569704400@4thwalltroupe.com
SUMMARY:Peter Pan!
DESCRIPTION:Off The Wall Youth Theatre presents Peter Pan!
URL:https://4thwalltroupe.com/event/peter-pan-5/
LOCATION:The Metropolitan\, Metropolitan\, 59 Main Street\, San Andreas\, CA\, 95249\, United States
CATEGORIES:Youth Theatre
ATTACH;FMTTYPE=image/jpeg:https://4thwalltroupe.com/wp-content/uploads/2018/12/PAN.jpg
END:VEVENT
BEGIN:VEVENT
DTSTART;TZID=UTC:20190927T190000
DTEND;TZID=UTC:20190927T210000
DTSTAMP:20260423T073552
CREATED:20190517T001226Z
LAST-MODIFIED:20190517T001226Z
UID:552-1569610800-1569618000@4thwalltroupe.com
SUMMARY:Peter Pan!
DESCRIPTION:Off The Wall Youth Theatre presents Peter Pan!  https://www.brownpapertickets.com/profile/3760328
URL:https://4thwalltroupe.com/event/peter-pan-4/
LOCATION:The Metropolitan\, Metropolitan\, 59 Main Street\, San Andreas\, CA\, 95249\, United States
CATEGORIES:Youth Theatre
ATTACH;FMTTYPE=image/jpeg:https://4thwalltroupe.com/wp-content/uploads/2018/12/PAN.jpg
END:VEVENT
BEGIN:VEVENT
DTSTART;TZID=UTC:20190922T140000
DTEND;TZID=UTC:20190922T160000
DTSTAMP:20260423T073552
CREATED:20190517T001101Z
LAST-MODIFIED:20190517T001101Z
UID:550-1569160800-1569168000@4thwalltroupe.com
SUMMARY:Peter Pan!
DESCRIPTION:Off The Wall Youth Theatre Troupe presents Peter Pan!
URL:https://4thwalltroupe.com/event/peter-pan-3/
LOCATION:The Metropolitan\, Metropolitan\, 59 Main Street\, San Andreas\, CA\, 95249\, United States
CATEGORIES:Youth Theatre
ATTACH;FMTTYPE=image/jpeg:https://4thwalltroupe.com/wp-content/uploads/2018/12/PAN.jpg
END:VEVENT
BEGIN:VEVENT
DTSTART;TZID=UTC:20190921T190000
DTEND;TZID=UTC:20190921T210000
DTSTAMP:20260423T073552
CREATED:20190517T000938Z
LAST-MODIFIED:20190517T000938Z
UID:548-1569092400-1569099600@4thwalltroupe.com
SUMMARY:Peter Pan!
DESCRIPTION:Off The Wall Youth Theatre Troupe presents Peter Pan!
URL:https://4thwalltroupe.com/event/peter-pan-2/
LOCATION:The Metropolitan\, Metropolitan\, 59 Main Street\, San Andreas\, CA\, 95249\, United States
CATEGORIES:Youth Theatre
ATTACH;FMTTYPE=image/jpeg:https://4thwalltroupe.com/wp-content/uploads/2018/12/PAN.jpg
END:VEVENT
BEGIN:VEVENT
DTSTART;TZID=UTC:20190920T190000
DTEND;TZID=UTC:20190920T210000
DTSTAMP:20260423T073552
CREATED:20190517T000720Z
LAST-MODIFIED:20190517T000720Z
UID:546-1569006000-1569013200@4thwalltroupe.com
SUMMARY:Peter Pan!
DESCRIPTION:Off The Wall Youth Theatre Troupe presents Peter Pan. Septmeber 20-22 and 27-29\, 2019.
URL:https://4thwalltroupe.com/event/peter-pan/
LOCATION:The Metropolitan\, Metropolitan\, 59 Main Street\, San Andreas\, CA\, 95249\, United States
CATEGORIES:Youth Theatre
ATTACH;FMTTYPE=image/jpeg:https://4thwalltroupe.com/wp-content/uploads/2018/12/PAN.jpg
END:VEVENT
BEGIN:VEVENT
DTSTART;TZID=UTC:20190505T190000
DTEND;TZID=UTC:20190505T210000
DTSTAMP:20260423T073552
CREATED:20181216T210527Z
LAST-MODIFIED:20181216T210527Z
UID:408-1557082800-1557090000@4thwalltroupe.com
SUMMARY:Revenge of the Fifth
DESCRIPTION:
URL:https://4thwalltroupe.com/event/revenge-of-the-fifth/
LOCATION:The Metropolitan\, Metropolitan\, 59 Main Street\, San Andreas\, CA\, 95249\, United States
CATEGORIES:Youth Theatre
ATTACH;FMTTYPE=image/jpeg:https://4thwalltroupe.com/wp-content/uploads/2018/12/4may.jpg
END:VEVENT
BEGIN:VEVENT
DTSTART;TZID=UTC:20190504T190000
DTEND;TZID=UTC:20190504T210000
DTSTAMP:20260423T073552
CREATED:20181216T210344Z
LAST-MODIFIED:20181216T210344Z
UID:406-1556996400-1557003600@4thwalltroupe.com
SUMMARY:May The Fourth Be With You
DESCRIPTION:
URL:https://4thwalltroupe.com/event/may-the-fourth-be-with-you/
LOCATION:The Metropolitan\, Metropolitan\, 59 Main Street\, San Andreas\, CA\, 95249\, United States
CATEGORIES:Youth Theatre
ATTACH;FMTTYPE=image/jpeg:https://4thwalltroupe.com/wp-content/uploads/2018/12/4may.jpg
END:VEVENT
BEGIN:VEVENT
DTSTART;TZID=UTC:20190415T163000
DTEND;TZID=UTC:20190415T183000
DTSTAMP:20260423T073552
CREATED:20181216T210200Z
LAST-MODIFIED:20181216T210200Z
UID:404-1555345800-1555353000@4thwalltroupe.com
SUMMARY:Auditions: May The Fourth Be With You/Youth
DESCRIPTION:
URL:https://4thwalltroupe.com/event/auditions-may-the-fourth-be-with-you-youth/
LOCATION:The Metropolitan\, Metropolitan\, 59 Main Street\, San Andreas\, CA\, 95249\, United States
CATEGORIES:Youth Theatre
ATTACH;FMTTYPE=image/jpeg:https://4thwalltroupe.com/wp-content/uploads/2018/12/4may.jpg
END:VEVENT
BEGIN:VEVENT
DTSTART;TZID=UTC:20190315T170000
DTEND;TZID=UTC:20190317T170000
DTSTAMP:20260423T073552
CREATED:20181216T204326Z
LAST-MODIFIED:20181216T204326Z
UID:375-1552669200-1552842000@4thwalltroupe.com
SUMMARY:The Magical Lamp of Aladdin/Youth Theatre
DESCRIPTION:Off The Wall Youth Theatre Troupe \npresents \nThe Magical Lamp of Aladdin
URL:https://4thwalltroupe.com/event/the-magical-lamp-of-aladdin-youth-theatre/
LOCATION:The Metropolitan\, Metropolitan\, 59 Main Street\, San Andreas\, CA\, 95249\, United States
CATEGORIES:Youth Theatre
ATTACH;FMTTYPE=image/jpeg:https://4thwalltroupe.com/wp-content/uploads/2018/12/al.jpg
END:VEVENT
END:VCALENDAR