BEGIN:VCALENDAR
VERSION:2.0
PRODID:-//Fourth Wall Entertainment Troupe - ECPv6.11.2.1//NONSGML v1.0//EN
CALSCALE:GREGORIAN
METHOD:PUBLISH
X-WR-CALNAME:Fourth Wall Entertainment Troupe
X-ORIGINAL-URL:https://4thwalltroupe.com
X-WR-CALDESC:Events for Fourth Wall Entertainment Troupe
REFRESH-INTERVAL;VALUE=DURATION:PT1H
X-Robots-Tag:noindex
X-PUBLISHED-TTL:PT1H
BEGIN:VTIMEZONE
TZID:UTC
BEGIN:STANDARD
TZOFFSETFROM:+0000
TZOFFSETTO:+0000
TZNAME:UTC
DTSTART:20210101T000000
END:STANDARD
END:VTIMEZONE
BEGIN:VEVENT
DTSTART;TZID=UTC:20211105T190000
DTEND;TZID=UTC:20211107T140000
DTSTAMP:20260421T165613
CREATED:20201006T194601Z
LAST-MODIFIED:20211004T215750Z
UID:857-1636138800-1636293600@4thwalltroupe.com
SUMMARY:Blithe Spirit
DESCRIPTION:Noel Coward’s Blithe Spirit revolves around novelist Charles Condomine\, who invites an eccentric medium to conduct a séance\, hoping to gather material for his next book. The scheme backfires when he is haunted by the ghost of his first wife who makes continual attempts to disrupt Charles’s marriage to his current wife after the séance. \nFriday and Saturday at 7:00 pm \nSunday Matinees at 2:00 pm \nAdmission: Adult = $15  /  Student/Sr. = $10
URL:https://4thwalltroupe.com/event/blithe-spirit-5/
LOCATION:The Metropolitan\, Metropolitan\, 59 Main Street\, San Andreas\, CA\, 95249\, United States
CATEGORIES:Theatre
ATTACH;FMTTYPE=image/jpeg:https://4thwalltroupe.com/wp-content/uploads/2020/10/BSgreen.jpg
END:VEVENT
END:VCALENDAR