BEGIN:VCALENDAR
VERSION:2.0
PRODID:-//Fourth Wall Entertainment Troupe - ECPv6.11.2.1//NONSGML v1.0//EN
CALSCALE:GREGORIAN
METHOD:PUBLISH
X-ORIGINAL-URL:https://4thwalltroupe.com
X-WR-CALDESC:Events for Fourth Wall Entertainment Troupe
REFRESH-INTERVAL;VALUE=DURATION:PT1H
X-Robots-Tag:noindex
X-PUBLISHED-TTL:PT1H
BEGIN:VTIMEZONE
TZID:UTC
BEGIN:STANDARD
TZOFFSETFROM:+0000
TZOFFSETTO:+0000
TZNAME:UTC
DTSTART:20210101T000000
END:STANDARD
END:VTIMEZONE
BEGIN:VEVENT
DTSTART;TZID=UTC:20211001T180000
DTEND;TZID=UTC:20211001T210000
DTSTAMP:20260421T170838
CREATED:20210824T171136Z
LAST-MODIFIED:20210824T171136Z
UID:1176-1633111200-1633122000@4thwalltroupe.com
SUMMARY:AUDITIONS: 1940's Christmas Carol
DESCRIPTION:Open auditions – All ages – cold read. Resume and head shot appreciated\, but not mandatory.\nDicken’s classic story of Scrooge and the Cratchit family has been adapted to the 1940’s during WWII. While Bob Cratchit is away in the war\, Mrs. Cratchit is busy doing her part to make ends meet while raising a family and helping with the war effort at home.
URL:https://4thwalltroupe.com/event/auditions-1940s-christmas-carol/
LOCATION:The Metropolitan\, Metropolitan\, 59 Main Street\, San Andreas\, CA\, 95249\, United States
CATEGORIES:Theatre
ATTACH;FMTTYPE=image/jpeg:https://4thwalltroupe.com/wp-content/uploads/2021/08/auditionsCarol.jpg
END:VEVENT
BEGIN:VEVENT
DTSTART;TZID=UTC:20211008T190000
DTEND;TZID=UTC:20211010T140000
DTSTAMP:20260421T170838
CREATED:20201006T194113Z
LAST-MODIFIED:20211004T220311Z
UID:848-1633719600-1633874400@4thwalltroupe.com
SUMMARY:Blithe Spirit
DESCRIPTION:Noel Coward’s Blithe Spirit revolves around novelist Charles Condomine\, who invites an eccentric medium to conduct a séance\, hoping to gather material for his next book. The scheme backfires when he is haunted by the ghost of his first wife who makes continual attempts to disrupt Charles’s marriage to his current wife after the séance. \nFriday and Saturday at 7:00 pm \nSunday Matinees at 2:00 pm \nAdmission: Adult = $15  /  Student/Sr. = $10
URL:https://4thwalltroupe.com/event/blithe-spirit/
LOCATION:The Metropolitan\, Metropolitan\, 59 Main Street\, San Andreas\, CA\, 95249\, United States
CATEGORIES:Theatre
ATTACH;FMTTYPE=image/jpeg:https://4thwalltroupe.com/wp-content/uploads/2020/10/BSgreen.jpg
END:VEVENT
BEGIN:VEVENT
DTSTART;TZID=UTC:20211015T190000
DTEND;TZID=UTC:20211017T140000
DTSTAMP:20260421T170838
CREATED:20201006T194228Z
LAST-MODIFIED:20211004T220200Z
UID:851-1634324400-1634479200@4thwalltroupe.com
SUMMARY:Blithe Spirit
DESCRIPTION:Noel Coward’s Blithe Spirit revolves around novelist Charles Condomine\, who invites an eccentric medium to conduct a séance\, hoping to gather material for his next book. The scheme backfires when he is haunted by the ghost of his first wife who makes continual attempts to disrupt Charles’s marriage to his current wife after the séance. \nFriday and Saturday at 7:00 pm \nSunday Matinees at 2:00 pm \nAdmission: Adult = $15  /  Student/Sr. = $10
URL:https://4thwalltroupe.com/event/blithe-spirit-2/
LOCATION:The Metropolitan\, Metropolitan\, 59 Main Street\, San Andreas\, CA\, 95249\, United States
CATEGORIES:Theatre
ATTACH;FMTTYPE=image/jpeg:https://4thwalltroupe.com/wp-content/uploads/2020/10/BSgreen.jpg
END:VEVENT
BEGIN:VEVENT
DTSTART;TZID=UTC:20211022T190000
DTEND;TZID=UTC:20211024T140000
DTSTAMP:20260421T170838
CREATED:20201006T194339Z
LAST-MODIFIED:20211004T220057Z
UID:853-1634929200-1635084000@4thwalltroupe.com
SUMMARY:Blithe Spirit
DESCRIPTION:Noel Coward’s Blithe Spirit revolves around novelist Charles Condomine\, who invites an eccentric medium to conduct a séance\, hoping to gather material for his next book. The scheme backfires when he is haunted by the ghost of his first wife who makes continual attempts to disrupt Charles’s marriage to his current wife after the séance. \nFriday and Saturday at 7:00 pm \nSunday Matinees at 2:00 pm \nAdmission: Adult = $15  /  Student/Sr. = $10
URL:https://4thwalltroupe.com/event/blithe-spirit-3/
LOCATION:The Metropolitan\, Metropolitan\, 59 Main Street\, San Andreas\, CA\, 95249\, United States
CATEGORIES:Theatre
ATTACH;FMTTYPE=image/jpeg:https://4thwalltroupe.com/wp-content/uploads/2020/10/BSgreen.jpg
END:VEVENT
BEGIN:VEVENT
DTSTART;TZID=UTC:20211029T190000
DTEND;TZID=UTC:20211031T140000
DTSTAMP:20260421T170838
CREATED:20201006T194450Z
LAST-MODIFIED:20211004T220408Z
UID:855-1635534000-1635688800@4thwalltroupe.com
SUMMARY:Blithe Spirit
DESCRIPTION:Noel Coward’s Blithe Spirit revolves around novelist Charles Condomine\, who invites an eccentric medium to conduct a séance\, hoping to gather material for his next book. The scheme backfires when he is haunted by the ghost of his first wife who makes continual attempts to disrupt Charles’s marriage to his current wife after the séance. \nFriday and Saturday at 7:00 pm \nSunday Matinees at 2:00 pm \nAdmission: Adult = $15  /  Student/Sr. = $10
URL:https://4thwalltroupe.com/event/blithe-spirit-4/
LOCATION:The Metropolitan\, Metropolitan\, 59 Main Street\, San Andreas\, CA\, 95249\, United States
CATEGORIES:Theatre
ATTACH;FMTTYPE=image/jpeg:https://4thwalltroupe.com/wp-content/uploads/2020/10/BSgreen.jpg
END:VEVENT
END:VCALENDAR