BEGIN:VCALENDAR
VERSION:2.0
PRODID:-//Fourth Wall Entertainment Troupe - ECPv6.11.2.1//NONSGML v1.0//EN
CALSCALE:GREGORIAN
METHOD:PUBLISH
X-WR-CALNAME:Fourth Wall Entertainment Troupe
X-ORIGINAL-URL:https://4thwalltroupe.com
X-WR-CALDESC:Events for Fourth Wall Entertainment Troupe
REFRESH-INTERVAL;VALUE=DURATION:PT1H
X-Robots-Tag:noindex
X-PUBLISHED-TTL:PT1H
BEGIN:VTIMEZONE
TZID:UTC
BEGIN:STANDARD
TZOFFSETFROM:+0000
TZOFFSETTO:+0000
TZNAME:UTC
DTSTART:20210101T000000
END:STANDARD
END:VTIMEZONE
BEGIN:VEVENT
DTSTART;TZID=UTC:20210901T180000
DTEND;TZID=UTC:20210901T210000
DTSTAMP:20260425T141030
CREATED:20210824T162444Z
LAST-MODIFIED:20210824T162444Z
UID:1173-1630519200-1630530000@4thwalltroupe.com
SUMMARY:AUDITIONS: Blithe Spirit
DESCRIPTION:Open auditions – no monologue required – cold read.\nSynopsis: Skeptical novelist Charles Condomine invites self-proclaimed medium Madame Arcati to his home for a séance\, hoping to gather material for a new book. When the hapless psychic accidentally summons the spirit of Condomine’s late wife\, Elvira\, his home and life are quickly turned into a shambles as his wife’s ghost torments both himself and his new bride\, Ruth.
URL:https://4thwalltroupe.com/event/auditions-blithe-spirit/
LOCATION:The Metropolitan\, Metropolitan\, 59 Main Street\, San Andreas\, CA\, 95249\, United States
CATEGORIES:Theatre
ATTACH;FMTTYPE=image/jpeg:https://4thwalltroupe.com/wp-content/uploads/2021/08/BlitheAuditions.jpg
END:VEVENT
BEGIN:VEVENT
DTSTART;TZID=UTC:20210903T190000
DTEND;TZID=UTC:20210905T190000
DTSTAMP:20260425T141030
CREATED:20210314T035644Z
LAST-MODIFIED:20210526T195804Z
UID:1094-1630695600-1630868400@4thwalltroupe.com
SUMMARY:Gentlemen Prefer Blondes
DESCRIPTION:Lorelei\, a dazzling blonde\, and Dorothy\, her sensible brunette friend\, are planning to complete their educations by going to Europe for the summer. They’ll “improve their minds” all day\, but for their evenings their main interest is in dates! A frivolous and witty show taking place in the roaring 20’s! \nFriday and Saturday  at 7:00 pm \nSunday Matinees at 2:00 pm \nAdmission: \nAdult = $15 \nStudent/Sr. = $10 \nTickets: https://www.eventbrite.com/e/gentlemen-prefer-blondes-tickets-156958285457
URL:https://4thwalltroupe.com/event/gentlemen-prefer-blondes-9/
LOCATION:The Metropolitan\, Metropolitan\, 59 Main Street\, San Andreas\, CA\, 95249\, United States
CATEGORIES:Theatre
ATTACH;FMTTYPE=image/jpeg:https://4thwalltroupe.com/wp-content/uploads/2021/03/GPB.jpg
END:VEVENT
BEGIN:VEVENT
DTSTART;TZID=UTC:20210910T190000
DTEND;TZID=UTC:20210912T190000
DTSTAMP:20260425T141030
CREATED:20210314T035803Z
LAST-MODIFIED:20210526T195853Z
UID:1096-1631300400-1631473200@4thwalltroupe.com
SUMMARY:Gentlemen Prefer Blondes
DESCRIPTION:Lorelei\, a dazzling blonde\, and Dorothy\, her sensible brunette friend\, are planning to complete their educations by going to Europe for the summer. They’ll “improve their minds” all day\, but for their evenings their main interest is in dates! A frivolous and witty show taking place in the roaring 20’s! \nFriday and Saturday  at 7:00 pm \nSunday Matinees at 2:00 pm \nAdmission: \nAdult = $15 \nStudent/Sr. = $10 \nTickets: https://www.eventbrite.com/e/gentlemen-prefer-blondes-tickets-156958285457
URL:https://4thwalltroupe.com/event/gentlemen-prefer-blondes-10/
LOCATION:The Metropolitan\, Metropolitan\, 59 Main Street\, San Andreas\, CA\, 95249\, United States
CATEGORIES:Theatre
ATTACH;FMTTYPE=image/jpeg:https://4thwalltroupe.com/wp-content/uploads/2021/03/GPB.jpg
END:VEVENT
END:VCALENDAR