BEGIN:VCALENDAR
VERSION:2.0
PRODID:-//Fourth Wall Entertainment Troupe - ECPv6.11.2.1//NONSGML v1.0//EN
CALSCALE:GREGORIAN
METHOD:PUBLISH
X-WR-CALNAME:Fourth Wall Entertainment Troupe
X-ORIGINAL-URL:http://4thwalltroupe.com
X-WR-CALDESC:Events for Fourth Wall Entertainment Troupe
REFRESH-INTERVAL;VALUE=DURATION:PT1H
X-Robots-Tag:noindex
X-PUBLISHED-TTL:PT1H
BEGIN:VTIMEZONE
TZID:UTC
BEGIN:STANDARD
TZOFFSETFROM:+0000
TZOFFSETTO:+0000
TZNAME:UTC
DTSTART:20190101T000000
END:STANDARD
END:VTIMEZONE
BEGIN:VEVENT
DTSTART;TZID=UTC:20241123T180000
DTEND;TZID=UTC:20241123T210000
DTSTAMP:20260423T223811
CREATED:20240610T235548Z
LAST-MODIFIED:20240610T235548Z
UID:1498-1732384800-1732395600@4thwalltroupe.com
SUMMARY:Murderer on Main St: Mystery Mixer in Moke Hill
DESCRIPTION:Shady stage coach robbers\, tall tales\, and saloon girls take over this historic interactive murder mystery mixer based on actual historical figures from the Mother Lode foothills!  Join us for the final in our Mysteries on the Road Series\, Murder on Main Street at the Mokelumne Hill Town Hall!
URL:http://4thwalltroupe.com/event/murderer-on-main-st-mystery-mixer-in-moke-hill/
CATEGORIES:Murder Mystery
ATTACH;FMTTYPE=image/jpeg:http://4thwalltroupe.com/wp-content/uploads/2024/06/MurderMokeHill.jpg
END:VEVENT
BEGIN:VEVENT
DTSTART;TZID=UTC:20241005T180000
DTEND;TZID=UTC:20241005T210000
DTSTAMP:20260423T223811
CREATED:20240610T234547Z
LAST-MODIFIED:20240610T235732Z
UID:1495-1728151200-1728162000@4thwalltroupe.com
SUMMARY:Swanky 60s Soirée: Mystery Mixer in Valley Springs
DESCRIPTION:Welcome to this exclusive dinner party hosted by former Hollywood bombshell\, Madeline Morgan. In an attempt to rekindle her career\, Ms. Morgan has invited some the most prestigious and unusual guest to her home. Little does she know that murder is on the menu! \nThis event is the 4th in our Mysteries on the Road Series and will be held at the Jenny Lind Veterans Hall in Valley Springs. Costumes are encouraged\, and the bar will be open. Groovy\, baby!
URL:http://4thwalltroupe.com/event/swanky-60s-soiree-mystery-mixer-in-valley-springs/
CATEGORIES:Murder Mystery
ATTACH;FMTTYPE=image/jpeg:http://4thwalltroupe.com/wp-content/uploads/2024/06/60.jpg
END:VEVENT
BEGIN:VEVENT
DTSTART;TZID=UTC:20240727T190000
DTEND;TZID=UTC:20240727T220000
DTSTAMP:20260423T223811
CREATED:20240605T200101Z
LAST-MODIFIED:20240605T200101Z
UID:1456-1722106800-1722117600@4thwalltroupe.com
SUMMARY:Slaughter on Safari: A Murder Mystery Mixer
DESCRIPTION:Join the troupe in the jungles of the Metropolitan park for this African adventure! This murder mystery mixer comes with cocktails and appetizers. Costumes are encouraged!
URL:http://4thwalltroupe.com/event/slaughter-on-safari-a-murder-mystery-mixer/
LOCATION:The Metropolitan\, Metropolitan\, 59 Main Street\, San Andreas\, CA\, 95249\, United States
CATEGORIES:Murder Mystery
ATTACH;FMTTYPE=image/jpeg:http://4thwalltroupe.com/wp-content/uploads/2024/06/SafariPoster-scaled.jpg
END:VEVENT
BEGIN:VEVENT
DTSTART;TZID=UTC:20231118T190000
DTEND;TZID=UTC:20231118T210000
DTSTAMP:20260423T223811
CREATED:20220924T171027Z
LAST-MODIFIED:20230617T175136Z
UID:1295-1700334000-1700341200@4thwalltroupe.com
SUMMARY:Homicide for the Holidays
DESCRIPTION:Join us for a very merry murder mystery mixer!  Cuddle up with a cozy cocktail with the Clauses and try to figure out why these old friends and family are dropping dead around us. A fun\, festive time for all awaits at this interactive murder mystery. \n 
URL:http://4thwalltroupe.com/event/homicide-for-the-holidays/
LOCATION:The Metropolitan\, Metropolitan\, 59 Main Street\, San Andreas\, CA\, 95249\, United States
CATEGORIES:Murder Mystery
ATTACH;FMTTYPE=image/jpeg:http://4thwalltroupe.com/wp-content/uploads/2022/09/HHposter-scaled.jpg
END:VEVENT
BEGIN:VEVENT
DTSTART;TZID=UTC:20230722T170000
DTEND;TZID=UTC:20230722T210000
DTSTAMP:20260423T223811
CREATED:20220924T170041Z
LAST-MODIFIED:20230509T230033Z
UID:1283-1690045200-1690059600@4thwalltroupe.com
SUMMARY:Murder on the High Seas
DESCRIPTION:Pack your bags and jump aboard this exotic cruise with us\, where murder is on the menu at our interactive murder mystery dinner. Characters will mingle with you while dropping clues to help you solve the mysterious deaths you will witness! This totally killer event will\, like\, take place in the 1980s\, so dig out your Aqua Net!
URL:http://4thwalltroupe.com/event/murder-on-the-high-seas/
LOCATION:The Metropolitan\, Metropolitan\, 59 Main Street\, San Andreas\, CA\, 95249\, United States
CATEGORIES:Murder Mystery
ATTACH;FMTTYPE=image/jpeg:http://4thwalltroupe.com/wp-content/uploads/2022/09/MOHSposter-2-scaled.jpg
END:VEVENT
BEGIN:VEVENT
DTSTART;TZID=UTC:20220730T170000
DTEND;TZID=UTC:20220730T220000
DTSTAMP:20260423T223811
CREATED:20201006T190048Z
LAST-MODIFIED:20220607T204301Z
UID:807-1659200400-1659218400@4thwalltroupe.com
SUMMARY:Catastrophe On The (Blood) Red Carpet
DESCRIPTION:Rub elbows with elite superstars on the red carpet at this interactive murder mystery dinner when the Metropolitan welcomes Broadway star\, Toni Ward\, along with her father\, Hollywood legend\, Oscar Ward\, and her less-known sister\, Emmy Ward. Blood isn’t always thicker than water.
URL:http://4thwalltroupe.com/event/catastrophe-on-the-blood-red-carpet/
LOCATION:The Metropolitan\, Metropolitan\, 59 Main Street\, San Andreas\, CA\, 95249\, United States
CATEGORIES:Murder Mystery
ATTACH;FMTTYPE=image/jpeg:http://4thwalltroupe.com/wp-content/uploads/2020/10/RC-1.jpg
END:VEVENT
BEGIN:VEVENT
DTSTART;TZID=UTC:20220409T170000
DTEND;TZID=UTC:20220409T210000
DTSTAMP:20260423T223811
CREATED:20200103T170934Z
LAST-MODIFIED:20220315T182825Z
UID:701-1649523600-1649538000@4thwalltroupe.com
SUMMARY:Beauty and the Bloodshed
DESCRIPTION:Six fairy tale princesses are invited to the enchanted Metropolitan Castle for a ball where Prince Charming will choose his bride. Will they all make it to the stroke of midnight\, or will they get picked off\, one by one\, like ripe apples? \nTicket price includes dinner and entertainment at this interactive murder mystery. Guests are encouraged to dress for the occasion with extravagant costumes. You will mix and mingle with the characters while collecting clues to solve the mystery. Prize for winner!
URL:http://4thwalltroupe.com/event/beauty-and-the-bloodshed/
LOCATION:The Metropolitan\, Metropolitan\, 59 Main Street\, San Andreas\, CA\, 95249\, United States
CATEGORIES:Murder Mystery
ATTACH;FMTTYPE=image/jpeg:http://4thwalltroupe.com/wp-content/uploads/2020/01/BB-1.jpg
END:VEVENT
BEGIN:VEVENT
DTSTART;TZID=UTC:20220115T170000
DTEND;TZID=UTC:20220115T220000
DTSTAMP:20260423T223811
CREATED:20201006T191623Z
LAST-MODIFIED:20210314T040908Z
UID:820-1642266000-1642284000@4thwalltroupe.com
SUMMARY:The King's Killer
DESCRIPTION:His royal highness and the queen invite you to a feast fit for a king at this chilling medieval murder mystery dinner. Join the knights at the round table for a stein\, or try to catch a glimpse of the princess’s dragon! Winter is leaving\, but will spring bring peace to this royal family?
URL:http://4thwalltroupe.com/event/the-kings-killer/
LOCATION:The Metropolitan\, Metropolitan\, 59 Main Street\, San Andreas\, CA\, 95249\, United States
CATEGORIES:Murder Mystery
ATTACH;FMTTYPE=image/jpeg:http://4thwalltroupe.com/wp-content/uploads/2020/10/KK.jpg
END:VEVENT
BEGIN:VEVENT
DTSTART;TZID=UTC:20200125T170000
DTEND;TZID=UTC:20200125T210000
DTSTAMP:20260423T223811
CREATED:20191121T195546Z
LAST-MODIFIED:20191121T201410Z
UID:653-1579971600-1579986000@4thwalltroupe.com
SUMMARY:Slaying At The Sock Hop
DESCRIPTION:Have a howling good time with Jack and the kids at the dance. Find out who will be crowned king and queen\, and who will DIE!!!
URL:http://4thwalltroupe.com/event/slaying-at-the-sock-hop/
LOCATION:The Metropolitan\, Metropolitan\, 59 Main Street\, San Andreas\, CA\, 95249\, United States
CATEGORIES:Murder Mystery
ATTACH;FMTTYPE=image/jpeg:http://4thwalltroupe.com/wp-content/uploads/2019/11/sock.jpg
END:VEVENT
BEGIN:VEVENT
DTSTART;TZID=UTC:20191116T170000
DTEND;TZID=UTC:20191116T220000
DTSTAMP:20260423T223811
CREATED:20190927T000635Z
LAST-MODIFIED:20190927T000635Z
UID:606-1573923600-1573941600@4thwalltroupe.com
SUMMARY:Murderer On Main St./Mystery Dinner
DESCRIPTION:Shady stage coach robbers\, tall tales\, and saloon girls take over this historic interactive murder mystery dinner!
URL:http://4thwalltroupe.com/event/murderer-on-main-st-mystery-dinner/
LOCATION:The Metropolitan\, Metropolitan\, 59 Main Street\, San Andreas\, CA\, 95249\, United States
CATEGORIES:Murder Mystery
ATTACH;FMTTYPE=image/jpeg:http://4thwalltroupe.com/wp-content/uploads/2019/09/murd.jpg
END:VEVENT
BEGIN:VEVENT
DTSTART;TZID=UTC:20190330T170000
DTEND;TZID=UTC:20190330T233000
DTSTAMP:20260423T223811
CREATED:20181216T204019Z
LAST-MODIFIED:20190316T165508Z
UID:373-1553965200-1553988600@4thwalltroupe.com
SUMMARY:Swanky Sixties Soiree/Murder Mystery
DESCRIPTION:Welcome to this exclusive dinner party hosted by former Hollywood bombshell\, Madeline Morgan. In an attempt to rekindle her career\, Ms. Morgan has invited some the most prestigious and unusual guests. Little does she know that murder is on the menu!\n\n\nTickets: https://swankysixties.bpt.me
URL:http://4thwalltroupe.com/event/swanky-sixties-soiree-murder-mystery/
LOCATION:The Metropolitan\, Metropolitan\, 59 Main Street\, San Andreas\, CA\, 95249\, United States
CATEGORIES:Murder Mystery
ATTACH;FMTTYPE=image/jpeg:http://4thwalltroupe.com/wp-content/uploads/2018/11/4swanky.jpg
END:VEVENT
BEGIN:VEVENT
DTSTART;TZID=UTC:20190126T170000
DTEND;TZID=UTC:20190126T220000
DTSTAMP:20260423T223811
CREATED:20181201T160942Z
LAST-MODIFIED:20181211T235012Z
UID:217-1548522000-1548540000@4thwalltroupe.com
SUMMARY:Murder At The Met
DESCRIPTION:Get dolled up in your best roaring 20’s get up and join the other gangsters\, flappers\, and molls at the Speakeasy at the Met! Featuring a dinner to die for\, killer beverages\, and music that will slay you: The Bob Eisenman Jazz Band! \nMob Boss\, Don Sal Calzone’s one and only son\, Hal Calzone\, has been murdered\, and the Don wants to know who done it! Hopefully Don Calzone and his grieving widow\, Clara Calzone will find the answers they are looking for at the Met speakeasy…or will more questions arise regarding Hal’s mysterious death? \nA percentage of proceeds from this event will be donated to The San Andreas Community Covenant Church Community Meal. \nOnline Tickets: https://murderatthemet.bpt.me
URL:http://4thwalltroupe.com/event/murder-at-the-met/
CATEGORIES:Murder Mystery
ATTACH;FMTTYPE=image/jpeg:http://4thwalltroupe.com/wp-content/uploads/2018/11/1m@m.jpg
END:VEVENT
END:VCALENDAR