BEGIN:VCALENDAR
VERSION:2.0
PRODID:-//Fourth Wall Entertainment Troupe - ECPv6.11.2.1//NONSGML v1.0//EN
CALSCALE:GREGORIAN
METHOD:PUBLISH
X-ORIGINAL-URL:http://4thwalltroupe.com
X-WR-CALDESC:Events for Fourth Wall Entertainment Troupe
REFRESH-INTERVAL;VALUE=DURATION:PT1H
X-Robots-Tag:noindex
X-PUBLISHED-TTL:PT1H
BEGIN:VTIMEZONE
TZID:UTC
BEGIN:STANDARD
TZOFFSETFROM:+0000
TZOFFSETTO:+0000
TZNAME:UTC
DTSTART:20190101T000000
END:STANDARD
END:VTIMEZONE
BEGIN:VEVENT
DTSTART;TZID=UTC:20191213T190000
DTEND;TZID=UTC:20191213T210000
DTSTAMP:20260424T230944
CREATED:20191022T170751Z
LAST-MODIFIED:20191022T170751Z
UID:623-1576263600-1576270800@4thwalltroupe.com
SUMMARY:Retro Movie Night: Santa Claus Conquers the Martians
DESCRIPTION:Only $5 to enjoy this 1964 “B” movie in “Space Blazing Color”! Food and beverages will be available. \nMartian ruler Kimar is upset that the children of Mars are lazy and under the influence of too much pop culture from Earth. They are obsessed with the planet’s television programs and don’t want to do much of anything. In an attempt to get the kids peppy again\, Kimar orders the kidnapping of Santa Claus\, hoping that the jolly old toymaker will know how to cheer the children up again. But two Earth children are also nabbed\, and this complicates things for Kimar.
URL:http://4thwalltroupe.com/event/retro-movie-night-santa-claus-conquers-the-martians/
LOCATION:The Metropolitan\, Metropolitan\, 59 Main Street\, San Andreas\, CA\, 95249\, United States
CATEGORIES:Film
ATTACH;FMTTYPE=image/jpeg:http://4thwalltroupe.com/wp-content/uploads/2019/10/claus.jpg
END:VEVENT
BEGIN:VEVENT
DTSTART;TZID=UTC:20191018T190000
DTEND;TZID=UTC:20191018T210000
DTSTAMP:20260424T230944
CREATED:20190926T235815Z
LAST-MODIFIED:20190926T235815Z
UID:594-1571425200-1571432400@4thwalltroupe.com
SUMMARY:Retro Movie Night
DESCRIPTION:Join us for “Night Fright” at the Met for only $5. The restaurant and bar will be open\, and popcorn will be poppin’!
URL:http://4thwalltroupe.com/event/retro-movie-night-2/
LOCATION:The Metropolitan\, Metropolitan\, 59 Main Street\, San Andreas\, CA\, 95249\, United States
CATEGORIES:Film
ATTACH;FMTTYPE=image/jpeg:http://4thwalltroupe.com/wp-content/uploads/2019/09/fright.jpg
END:VEVENT
END:VCALENDAR